BEGIN:VCALENDAR
VERSION:2.0
PRODID:spatie/icalendar-generator
DESCRIPTION:Events from Harris County ARES
X-WR-CALDESC:Events from Harris County ARES
REFRESH-INTERVAL;VALUE=DURATION:PT1440M
X-PUBLISHED-TTL:PT1440M
BEGIN:VTIMEZONE
TZID:America/Chicago
BEGIN:STANDARD
DTSTART:20251102T020000Z
TZOFFSETFROM:-0500
TZOFFSETTO:-0600
END:STANDARD
BEGIN:DAYLIGHT
DTSTART:20260308T020000Z
TZOFFSETFROM:-0600
TZOFFSETTO:-0500
END:DAYLIGHT
END:VTIMEZONE
BEGIN:VTIMEZONE
TZID:UTC
BEGIN:STANDARD
DTSTART:20250725T151139Z
TZOFFSETFROM:+0000
TZOFFSETTO:+0000
END:STANDARD
END:VTIMEZONE
BEGIN:VEVENT
UID:153-35
DTSTAMP:20260421T151139Z
SUMMARY:No Sales Tax Weekend
LOCATION:ONLINE
ORGANIZER;CN=Paul Smith:MAILTO:k5prs@aol.com
DTSTART;TZID=America/Chicago;VALUE=DATE:20260425
DTEND;TZID=America/Chicago;VALUE=DATE:20260428
X-ALT-DESC;FMTTYPE=TEXT/HTML:April 25 - 27 is the No Sales Tax Weekend for
  emergency supplies.  This includes generators under $3\,000.  Take this
  opportunity to restock your emergency supplies in preparation for hurrica
 ne season.   Some restrictions may apply. See the attached link for deta
 ils. https://comptroller.texas.gov/taxes/publications/98-1017.php/
CATEGORIES:EVENT
URL;VALUE=URI:https://stxd14ares.org/mc-events/no-sales-tax-weekend/
METHOD:PUBLISH
END:VEVENT
END:VCALENDAR